BEGIN:VCALENDAR
VERSION:2.0
PRODID:-//CiviCRM//NONSGML CiviEvent iCal//EN
X-WR-TIMEZONE:Europe/Berlin
METHOD:PUBLISH
BEGIN:VTIMEZONE
TZID:Europe/Berlin
BEGIN:DAYLIGHT
TZOFFSETFROM:+0200
TZOFFSETTO:+0200
TZNAME:CEST
DTSTART:20260523T100000
END:DAYLIGHT
END:VTIMEZONE
BEGIN:VEVENT
UID:CiviCRM_EventID_13_39ebd94bfcf26367e94a03760fbd6738@civicrm.herzcaspar.info
SUMMARY:Create\, Care & Cupcakes - by HerzCaspar x Kjeks
X-ALT-DESC;FMTTYPE=text/html:<!DOCTYPE HTML PUBLIC
  "-//W3C//DTD HTML 3.2//EN"><html><body><p>Du hast
  Lust\, mit wenig Zeit etwas richtig Gutes zu tun?
  Dann komm zu unserer <strong>HerzCaspar-Ehrentags
 aktion</strong>: Gemeinsam gestalten wir <strong>G
 eschenktüten für junge Patient:innen im Krankenhau
 s</strong>. Dabei entstehen persönliche Aufmerksam
 keiten\, die zeigen: Du bist nicht allein.</p>\n \
 n <p><strong>Zwischen 10 und 13 Uhr kannst du ganz
  flexibel vorbeikommen</strong>\, so lange bleiben
 \, wie du magst\, Leute kennenlernen\, kreativ wer
 den und mehr über das Ehrenamt bei HerzCaspar erfa
 hren. </p>\n \n <p>Als Dankeschön für deine Unters
 tützung laden wir dich auf einen Cupcake oder Donu
 t vom Kjeks ein. ☕🍩</p>\n \n <p>Komm vorbei\, brin
 g Freund:innen mit und sei Teil einer Aktion\, die
  verbindet\, Mut schenkt und bei der du ganz konkr
 et etwas bewegen kannst.</p></body></html>
DESCRIPTION:Du hast Lust\, mit wenig Zeit etwas richtig Gutes 
 zu tun? Dann komm zu unserer HerzCaspar-Ehrentagsa
 ktion: Gemeinsam gestalten wir Geschenktüten für j
 unge Patient:innen im Krankenhaus. Dabei entstehen
  persönliche Aufmerksamkeiten\, die zeigen: Du bis
 t nicht allein.\n \n \n \n Zwischen 10 und 13 Uhr 
 kannst du ganz flexibel vorbeikommen\, so lange bl
 eiben\, wie du magst\, Leute kennenlernen\, kreati
 v werden und mehr über das Ehrenamt bei HerzCaspar
  erfahren. \n \n \n \n Als Dankeschön für deine Un
 terstützung laden wir dich auf einen Cupcake oder 
 Donut vom Kjeks ein. ☕🍩\n \n \n \n Komm vorbei\, b
 ring Freund:innen mit und sei Teil einer Aktion\, 
 die verbindet\, Mut schenkt und bei der du ganz ko
 nkret etwas bewegen kannst.\n \n 
CATEGORIES:Direkte Aktion
CALSCALE:GREGORIAN
DTSTAMP;TZID=Europe/Berlin:20260523T100000
DTSTART;TZID=Europe/Berlin:20260523T100000
DTEND;TZID=Europe/Berlin:20260523T130000
LOCATION:Heidberg 47\n Kjeks Café (Winterhude)\n 22301 Hamb
 urg\n Germany\n 
URL:https://civicrm.herzcaspar.info/civicrm/event/info?reset=1&id=13
END:VEVENT
END:VCALENDAR
